BEGIN:VCALENDAR
VERSION:2.0
CALSCALE:GREGORIAN
BEGIN:VEVENT
DTEND; TZID=Europe/London:20260603T164640
UID: 69b831afbfa49
DTSTAMP:20260316T163703
LOCATION:Brunel Square
DESCRIPTION:"Everyone is welcome. Join us for a free 30 minute pop up dance session designed for all ages. No need to book, just turn up. \r\n\r\nGreat music, loads of fun, dance in whatever way you like or follow the suggested moves from Sam Grief who will be leading the session. Join in at any point, sitting down or standing, whatever works for you. \r\n\r\nWe will be dancing outdoors in Brunel Square, between Bath Train and Bus stations, come rain or shine!\r\n\r\n"
URL;VALUE=URI:https://bathfringe.co.uk/event/
SUMMARY:Bath Fringe 2019 - You Can Dance
DTSTART; TZID=Europe/London:20260603T140000
END:VEVENT
END:VCALENDAR