BEGIN:VCALENDAR
VERSION:2.0
CALSCALE:GREGORIAN
BEGIN:VEVENT
DTEND; TZID=Europe/London:20260603T224640
UID: 69da5245d5e20
DTSTAMP:20260411T135309
LOCATION:The Assembly Inn
DESCRIPTION:"The Open Mic is a weekly open mic comedy night at The Jesters Comedy Club in Bath, featuring brand new comedians, experienced performers, and everything in between. Anyone can sign up, and every show is different.\r\n"
URL;VALUE=URI:https://bathfringe.co.uk/event/jesters_open_mic
SUMMARY:Bath Fringe 2019 - The Open Mic
DTSTART; TZID=Europe/London:20260603T200000
END:VEVENT
END:VCALENDAR