BEGIN:VCALENDAR
VERSION:2.0
CALSCALE:GREGORIAN
BEGIN:VEVENT
DTEND; TZID=Europe/London:20260524T214640
UID: 69a9b8286979f
DTSTAMP:20260305T170648
LOCATION:DoubleTree by Hilton Bath
DESCRIPTION:"Take a trip with the star of Dead Ringers, Spitting Image, The Imitation Game, and Bad Girls, as she hurtles through time in a multiverse of musical icons. With Debra's trademark comedic impressions of well-known politicians and celebrities, there's plenty of fun and laughter along the way."
URL;VALUE=URI:https://bathfringe.co.uk/event/debra-stephenson
SUMMARY:Bath Fringe 2019 - The Many Voices of Debra Stephenson
DTSTART; TZID=Europe/London:20260524T190000
END:VEVENT
END:VCALENDAR