BEGIN:VCALENDAR
VERSION:2.0
CALSCALE:GREGORIAN
BEGIN:VEVENT
DTEND; TZID=Europe/London:20260522T224640
UID: 69d3bcbd0ae64
DTSTAMP:20260406T140133
LOCATION:The Assembly Inn
DESCRIPTION:"Welcome to The Jesters Comedy Club \u2013 Bath's only underground comedy venue, bringing revolutionary laughs to the heart of the city. Born from a passion for intimate, unforgettable comedy experiences, we've transformed a cozy underground space on Alfred Street into one of Bath's most unique entertainment venues."
URL;VALUE=URI:https://bathfringe.co.uk/event/jesters_friday
SUMMARY:Bath Fringe 2019 - The Friday Show
DTSTART; TZID=Europe/London:20260522T200000
END:VEVENT
END:VCALENDAR