BEGIN:VCALENDAR
VERSION:2.0
CALSCALE:GREGORIAN
BEGIN:VEVENT
DTEND; TZID=Europe/London:20260605T221640
UID: 69c7c720eb4c7
DTSTAMP:20260328T121840
LOCATION:The Edge\, Weston Studio\, University of Bath\, 
DESCRIPTION:"In the Duchy of Tolomlay, the people are sick and in need of a saviour. When a farmer beseeches the aide of the Duke, the self-entitled aristocracy threatens to thwart his mission. From Lawn Bowls to ballrooms and twists and turns galore, the farmer uncovers the truth behind the charade."
URL;VALUE=URI:https://bathfringe.co.uk/event/duke_tolomay
SUMMARY:Bath Fringe 2019 - The Duke of Tolomlay
DTSTART; TZID=Europe/London:20260605T193000
END:VEVENT
END:VCALENDAR