BEGIN:VCALENDAR
VERSION:2.0
CALSCALE:GREGORIAN
BEGIN:VEVENT
DTEND; TZID=Europe/London:20260528T224640
UID: 69c17d4af3b82
DTSTAMP:20260323T175002
LOCATION:Burdall's Yard
DESCRIPTION:"After a decade of no exercise (besides child-rearing and reaching for cake) 41 year old poet P Burton-Morgan finds themselves newly single and hungry to get fit. Cue Rocky montage, but with a middle-aged red-faced mum. With their trademark mix of witty wordplay and open-hearted tenderness this solo poetry show is a silly, sexy, sweaty romp - don't forget to stretch first.\r\n"
URL;VALUE=URI:https://bathfringe.co.uk/event/
SUMMARY:Bath Fringe 2019 - Running Commentary 
DTSTART; TZID=Europe/London:20260528T200000
END:VEVENT
END:VCALENDAR