BEGIN:VCALENDAR
VERSION:2.0
CALSCALE:GREGORIAN
BEGIN:VEVENT
DTEND; TZID=Europe/London:20260527T204640
UID: 69ca982c60fc8
DTSTAMP:20260330T153508
LOCATION:Bath Jewish Burial Ground\, 1 Greendown Place\, Bath BA2 5DD
DESCRIPTION:"Step beyond the familiar streets of Bath and uncover the stories of the Jewish community laid to rest in this peaceful Georgian burial ground. Our knowledgeable trustees will bring this unique heritage site and the individuals who are buried here to life revealing an untold chapter of the city\u2019s history."
URL;VALUE=URI:https://bathfringe.co.uk/event/burialground
SUMMARY:Bath Fringe 2019 - Hidden Stories
DTSTART; TZID=Europe/London:20260527T180000
END:VEVENT
END:VCALENDAR