BEGIN:VCALENDAR
VERSION:2.0
CALSCALE:GREGORIAN
BEGIN:VEVENT
DTEND; TZID=Europe/London:20260524T161640
UID: 69c30caf13173
DTSTAMP:20260324T221407
LOCATION:Fairfield House
DESCRIPTION:"Fairfield House, Home of H.I.M Haile Selassie I, 2 Kelston Road, BA1 3QJ, is for the first time opening each Sunday to visitors by guided tour."
URL;VALUE=URI:https://bathfringe.co.uk/event/fairfieldhouse
SUMMARY:Bath Fringe 2019 - Guided Tour of Fairfield House
DTSTART; TZID=Europe/London:20260524T133000
END:VEVENT
END:VCALENDAR