BEGIN:VCALENDAR
VERSION:2.0
CALSCALE:GREGORIAN
BEGIN:VEVENT
DTEND; TZID=Europe/London:20260523T221640
UID: 69cbd2b9c3947
DTSTAMP:20260331T135713
LOCATION:Burdall's Yard
DESCRIPTION:"A collection of short plays and excerpts written by early-career playwrights from the South-West of England, where comedy, chaos and culture collide. Cracking open the systems we live in and laughing at the structures that shape us. Age 14+"
URL;VALUE=URI:https://bathfringe.co.uk/event/uncaged_theatre
SUMMARY:Bath Fringe 2019 - Glitch
DTSTART; TZID=Europe/London:20260523T193000
END:VEVENT
END:VCALENDAR