BEGIN:VCALENDAR
VERSION:2.0
CALSCALE:GREGORIAN
BEGIN:VEVENT
DTEND; TZID=Europe/London:20260605T224640
UID: 69c2f6275b83e
DTSTAMP:20260324T203759
LOCATION:
DESCRIPTION:"\"Funk, Jazz, Soul. All Local acts. High-energy fusion at its finest.\"\r\n"
URL;VALUE=URI:https://bathfringe.co.uk/event/
SUMMARY:Bath Fringe 2019 - Fusion for Fringe
DTSTART; TZID=Europe/London:20260605T200000
END:VEVENT
END:VCALENDAR