BEGIN:VCALENDAR
VERSION:2.0
CALSCALE:GREGORIAN
BEGIN:VEVENT
DTEND; TZID=Europe/London:20260529T214640
UID: 69c7cf55daf60
DTSTAMP:20260328T125341
LOCATION:Green Park
DESCRIPTION:"Funk Tuckers bring a high-energy Friday night party to Green Park Station. Expect classic funk, soul and disco from James Brown to the Bee Gees, Sam & Dave to the Pointer Sisters. Grab a pizza from Bath Pizza Co, a drink from the bar, and join the dancefloor."
URL;VALUE=URI:https://bathfringe.co.uk/event/funk_tuckers
SUMMARY:Bath Fringe 2019 - Funk Tuckers
DTSTART; TZID=Europe/London:20260529T190000
END:VEVENT
END:VCALENDAR