BEGIN:VCALENDAR
VERSION:2.0
CALSCALE:GREGORIAN
BEGIN:VEVENT
DTEND; TZID=Europe/London:20260605T171640
UID: 69a7fadc01b43
DTSTAMP:20260304T092652
LOCATION:The Mission Theatre
DESCRIPTION:"Dr Frank finds the woman of his dreams made flesh, but she may not be the perfect creature he designed. As he obsesses over his creation, Elizabeth and Justine discover dark truths about his past. \r\nThe question at the core of Mary Shelley\u2019s book remains: who is really in control?"
URL;VALUE=URI:https://bathfringe.co.uk/event/
SUMMARY:Bath Fringe 2019 - Dr Frank
DTSTART; TZID=Europe/London:20260605T143000
END:VEVENT
END:VCALENDAR