BEGIN:VCALENDAR
VERSION:2.0
CALSCALE:GREGORIAN
BEGIN:VEVENT
DTEND; TZID=Europe/London:20260525T214640
UID: 69c1df7e99892
DTSTAMP:20260324T004902
LOCATION:DoubleTree by Hilton Bath
DESCRIPTION:"A fiercely powerful and critically acclaimed show about a brutally shocking story.\r\n\r\nInspiring uproarious laughter, tears of sincerity and standing ovations, Chris' conscientious comedy and cutting-edge poetry makes for a truly unforgettable show.\r\n\r\n\"An electrifying performance of naked honesty\" \u2605\u2605\u2605\u2605 ThreeWeeks"
URL;VALUE=URI:https://bathfringe.co.uk/event/
SUMMARY:Bath Fringe 2019 - Chris McGlade - Forgiveness
DTSTART; TZID=Europe/London:20260525T190000
END:VEVENT
END:VCALENDAR