BEGIN:VCALENDAR
VERSION:2.0
CALSCALE:GREGORIAN
BEGIN:VEVENT
DTEND; TZID=Europe/London:20260530T221640
UID: 69c7cd5ae3cf5
DTSTAMP:20260328T124514
LOCATION:Burdall's Yard
DESCRIPTION:"Two iconic women, two iconic albums \"Blue\" & \"Tapestry\", marking the end of the Woodstock era, and putting women center-stage as composers and performers. \r\n\r\nAward-winning, international duo Veronneau, interpret the legendary music of Joni & Carole and take you back to the 70's with their songs and stories. "
URL;VALUE=URI:https://bathfringe.co.uk/event/veronneau
SUMMARY:Bath Fringe 2019 - Blue Tapestry
DTSTART; TZID=Europe/London:20260530T193000
END:VEVENT
END:VCALENDAR