BEGIN:VCALENDAR
VERSION:2.0
CALSCALE:GREGORIAN
BEGIN:VEVENT
DTEND; TZID=Europe/London:20260607T144640
UID: 69c914dd7203d
DTSTAMP:20260329T120237
LOCATION:Avon Rugby and Football Club\, BA1 7DA
DESCRIPTION:"Bath is full of vibrant and creative people from all over the globe and all walks of life. This is a family  gathering will celebrate what all communities have to offer and encourage unity in times where so many people are trying divide us. With music, dance, art and food.\r\n"
URL;VALUE=URI:https://bathfringe.co.uk/event/beats_beyond_borders
SUMMARY:Bath Fringe 2019 - Beats Beyond Borders
DTSTART; TZID=Europe/London:20260607T120000
END:VEVENT
END:VCALENDAR