BEGIN:VCALENDAR
VERSION:2.0
CALSCALE:GREGORIAN
BEGIN:VEVENT
DTEND; TZID=Europe/London:20260523T171640
UID: 69e6181f540d1
DTSTAMP:20260420T121215
LOCATION:Bath Abbey
DESCRIPTION:"Join story-walker and writer Clare Reddaway as she tells stories, real and imagined. She will peel back the facade of Bath\u2019s genteel respectability, uncovering hidden infringements that Bath would really rather forget. Clare brings the seamy side of Bath vividly to life. Walk, listen, discover, enjoy. Suitable for 12+"
URL;VALUE=URI:https://bathfringe.co.uk/event/crimes_misdemeanours
SUMMARY:Bath Fringe 2019 - A Story Walk through Disreputable Bath
DTSTART; TZID=Europe/London:20260523T143000
END:VEVENT
END:VCALENDAR